Workbook

Sheet форма 6 СВМ (Август 2026)
A4: ИНФОРМАЦИЯ
A5: О НАЛИЧИИ (ОТСУТСТВИИ) ТЕХНИЧЕСКОЙ ВОЗМОЖНОСТИ ДОСТУПА К РЕГУЛИРУЕМЫМ УСЛУГАМ
A6: ПО ТРАНСПОРТИРОВКЕ ГАЗА ПО ГАЗОРАСПРЕДЕЛИТЕЛЬНЫМ СЕТЯМ
C7: ПО СРЕДНЕВИЛЮЙСКОМУ МЕСТОРОЖДЕНИЮ
A8: на Август 2026 года (факт)
A10: № п/п | B10: Наименование газораспреде- лительной сети | C10: Точка входа в газораспреде- лительную сеть | D10: Точка выхода из газораспреде- лительной сети | E10: Наименование потребителя | BB10: макс. Факт | BC10: Объемы газа в соответствии с поступившими заявками куб. м / ч | BD10: Объемы газа в соответствии с удовлетворен- ными заявками, куб. м./ч | BE10: Свободная мощность газораспреде- лительной сети, куб. м/ч | BG10: Номер группы газопотребления | BH10: Объемы газа в соответствии с поступившими заявками млн. куб. м | BI10: Объемы газа в соответствии с удовлетворен- ными заявками, млн. куб. м | BJ10: Свободная мощность газораспреде- лительной сети, млн. куб. м | BK10: Объемы газа в соответствии с поступившими заявками млн. куб. м | BL10: Объемы газа в соответствии с удовлетворен- ными заявками, млн. куб. м | BM10: Свободная мощность газораспреде- лительной сети, млн. куб. м | BN10: Объемы газа в соответствии с поступившими заявками млн. куб. м | BO10: Объемы газа в соответствии с удовлетворен- ными заявками, млн. куб. м | BP10: Свободная мощность газораспреде- лительной сети, млн. куб. м
A11: 1 | B11: 2 | C11: 1 | D11: 2 | E11: 3 | BC11: 8 | BD11: 9 | BE11: 10 | BG11: 4 | BH11: 5 | BI11: 6 | BJ11: 7 | BK11: 8 | BL11: 9 | BM11: 10 | BN11: 8 | BO11: 9 | BP11: 10
A12: 1 | B12: Н-Бестях ЖДЯ | C12: Н-Бестях ЖДЯ | D12: Н-Бестях ЖДЯ | AQ12: 10.082 | AR12: 3.85 | AS12: 27.366 | AT12: 3.5 | AU12: 2.614 | AV12: -1.307 | AY12: 16.756 | AZ12: 28.403 | BA12: 38.194 | BB12: =BB13+BB16 -> 65.852 | BC12: =BC13+BC16 -> 249.11 | BD12: =BD13+BD16 -> 88.510753 | BE12: =BE13+BE16 -> 160.59925 | BF12: =BF13+BF16 -> 138.91 | BH12: =BH13+BH16 -> 0.18533784 | BI12: =BI13+BI16 -> 0.065852 | BJ12: =BJ13+BJ16 -> 0.11948584 | BK12: 0.29486952 | BL12: 0.114582 | BM12: 0.18028752 | BN12: =BK12*4 -> 1.1794781 | BO12: =BL12*4 -> 0.458328 | BP12: =BM12*4 -> 0.72115008
E13: САХАНЕФТЕГАЗСБЫТ АО дог | AQ13: 10.082 | AR13: 3.85 | AS13: 27.366 | AT13: 3.5 | AU13: 2.614 | AV13: -1.307 | AY13: 16.756 | AZ13: 28.403 | BA13: 38.194 | BB13: =MAX(F13:BA13) -> 38.194 | BC13: 132.11 | BD13: =(BB13/31/24)*1000 -> 51.336022 | BE13: =BC13-BD13 -> 80.773978 | BF13: 132.11 | BG13: 6 | BH13: =(BC13*24*31/1000000) -> 0.09828984 | BI13: =(BD13*24*31/1000000) -> 0.038194 | BJ13: =BH13-BI13 -> 0.06009584 | BK13: 0.29486952 | BL13: 0.114582 | BM13: 0.18028752 | BN13: =BK13*4 -> 1.1794781 | BO13: =BL13*4 -> 0.458328 | BP13: =BM13*4 -> 0.72115008
E14: Ж/д станция Н-Бестях АГРС Прирельсовый (с/н) | AQ14: 10.082 | AS14: 15.388 | AT14: 0.5 | AY14: 8.141 | AZ14: 16.45 | BA14: 15.919 | BB14: =MAX(F14:BA14) -> 16.45 | BD14: =(BB14/31/24)*1000 -> 22.110215 | BH14: =(BC14*24*31/1000000) -> 0 | BI14: =(BD14*24*31/1000000) -> 0.01645 | BK14: 0 | BL14: 0 | BM14: 0 | BN14: =BK14*4 -> 0 | BO14: =BL14*4 -> 0 | BP14: =BM14*4 -> 0
E15: Ж/д станция Н-Бестях нефтегаз.комплекс котельная | AR15: 3.85 | AS15: 11.978 | AT15: 3 | AU15: 2.614 | AV15: -1.307 | AY15: 8.615 | AZ15: 11.953 | BA15: 22.275 | BB15: =MAX(F15:BA15) -> 22.275 | BD15: =(BB15/31/24)*1000 -> 29.939516 | BH15: =(BC15*24*31/1000000) -> 0 | BI15: =(BD15*24*31/1000000) -> 0.022275 | BK15: 0 | BL15: 0 | BM15: 0 | BN15: =BK15*4 -> 0 | BO15: =BL15*4 -> 0 | BP15: =BM15*4 -> 0
E16: АК ЖДЯ АО | AZ16: 0.236 | BA16: 2.259 | BB16: =SUM(BB17:BB18) -> 27.658 | BC16: =SUM(BC17:BC18) -> 117 | BD16: =(BB16/31/24)*1000 -> 37.174731 | BE16: =BC16-BD16 -> 79.825269 | BF16: 6.8 | BG16: 6 | BH16: =(BC16*24*31/1000000) -> 0.087048 | BI16: =(BD16*24*31/1000000) -> 0.027658 | BJ16: =BH16-BI16 -> 0.05939 | BK16: 0.0151776 | BL16: 0.006777 | BM16: 0.0084006 | BN16: =BK16*4 -> 0.0607104 | BO16: =BL16*4 -> 0.027108 | BP16: =BM16*4 -> 0.0336024
E17: РС(Я), Мегино-Кангаласский улус, ж/д станция "Нижний Бестях" Гараж на 26 машино мест | BB17: 16.015 | BC17: 117 | BD17: =(BB17/31/24)*1000 -> 21.525538 | BE17: =BC17-BD17 -> 95.474462 | BF17: 6.8 | BH17: =(BC17*24*31/1000000) -> 0.087048 | BI17: =(BD17*24*31/1000000) -> 0.016015 | BJ17: =BH17-BI17 -> 0.071033 | BK17: 0 | BL17: 0 | BM17: 0 | BN17: =BK17*4 -> 0 | BO17: =BL17*4 -> 0 | BP17: =BM17*4 -> 0
E18: РС(Я), Мегино-Кангаласский улус, п.Нижний Бестях,ж/д станция Н-Бестях (Крытый склад) | BB18: 11.643 | BD18: =(BB18/31/24)*1000 -> 15.649194
E19: АК ЖДЯ АО | BB19: 4.713984 | BC19: 23 | BD19: =(BB19/31/24)*1000 -> 6.336 | BE19: =BC19-BD19 -> 16.664 | BG19: 4 | BH19: =(BC19*24*31/1000000) -> 0.017112 | BI19: =(BD19*24*31/1000000) -> 0.004713984 | BJ19: =BH19-BI19 -> 0.012398016
E20: РС(Я) Мегино-Кангаласский у, Нерюктяйский наслег ст.Нижний Бестях ( ТЦ, 14:15:140003:185) | BB20: 4.713984 | BC20: 23 | BD20: =(BB20/31/24)*1000 -> 6.336 | BE20: =BC20-BD20 -> 16.664 | BH20: =(BC20*24*31/1000000) -> 0.017112 | BI20: =(BD20*24*31/1000000) -> 0.004713984 | BJ20: =BH20-BI20 -> 0.012398016
A21: 2 | B21: Арылах | C21: Арылах | D21: Арылах | F21: 72.627 | G21: 93.44 | H21: 117.588 | I21: 71.728 | K21: 46.984 | L21: 21.686 | M21: -30.988 | N21: 11.746 | O21: 44.617 | P21: 56.492 | Q21: 90.202 | R21: 99.598 | S21: 126.503 | T21: 131.374 | U21: 83.948 | V21: 59.63 | W21: 40.786 | X21: 10.35 | Y21: 3.966 | Z21: 8.976 | AA21: -87.803 | AB21: 35.39 | AC21: 88.869 | AD21: 106.838 | AE21: 112.865 | AF21: 94.311 | AG21: 80.39 | AH21: 49.365 | AI21: 42.534 | AJ21: 11.379 | AK21: 4.605 | AL21: 6.296 | AM21: 22.379 | AN21: 47.316 | AO21: 86.097 | AP21: 113.065 | AQ21: 125.04 | AR21: 102.515 | AS21: 85.499 | AT21: 60.066 | AU21: 33.773 | AV21: 12.036 | AW21: 5.034 | AX21: 12.8 | AY21: 20.7 | AZ21: 48.197 | BA21: 74.448 | BB21: =SUM(BB22,BB24,BB26,BB29,BB31,BB33,BB35) -> 153.0668 | BC21: =SUM(BC22,BC24,BC26,BC29,BC31,BC33,BC35) -> 474.212 | BD21: =SUM(BD22,BD24,BD26,BD29,BD31,BD33,BD35) -> 204.58199 | BE21: =SUM(BE22,BE24,BE26,BE29,BE31,BE33,BE35) -> 269.63001 | BF21: =SUM(BF22,BF24,BF26,BF29,BF31,BF33,BF35) -> 473.2 | BH21: =SUM(BH22,BH24,BH26,BH29,BH31,BH33,BH35) -> 0.35281373 | BI21: =SUM(BI22,BI24,BI26,BI29,BI31,BI33,BI35) -> 0.152209 | BJ21: =SUM(BJ22,BJ24,BJ26,BJ29,BJ31,BJ33,BJ35) -> 0.20060473 | BK21: 1.0557628 | BL21: 0.450918 | BM21: 0.60484478 | BN21: =BK21*4 -> 4.2230511 | BO21: =BL21*4 -> 1.803672 | BP21: =BM21*4 -> 2.4193791
E22: АЛМАЗ В РС (Я) ОО | AZ22: 0.236 | BA22: 2.259 | BB22: =MAX(F22:BA22) -> 2.259 | BC22: 6.8 | BD22: =(BB22/31/24)*1000 -> 3.0362903 | BE22: =BC22-BD22 -> 3.7637097 | BF22: 6.8 | BG22: 6 | BH22: =(BC22*24*31/1000000) -> 0.0050592 | BI22: =(BD22*24*31/1000000) -> 0.002259 | BJ22: =BH22-BI22 -> 0.0028002 | BK22: 0.0151776 | BL22: 0.006777 | BM22: 0.0084006 | BN22: =BK22*4 -> 0.0607104 | BO22: =BL22*4 -> 0.027108 | BP22: =BM22*4 -> 0.0336024
E23: с. Арылах, ул. Кюерелях | AZ23: 0.236 | BA23: 2.259 | BB23: =MAX(F23:BA23) -> 2.259 | BE23: =BC23-BD23 -> 0 | BF23: 6.8 | BH23: =(BC23*24*31/1000000) -> 0 | BI23: =(BD23*24*31/1000000) -> 0 | BJ23: =BH23-BI23 -> 0 | BK23: 0 | BL23: 0 | BM23: 0 | BN23: =BK23*4 -> 0 | BO23: =BL23*4 -> 0 | BP23: =BM23*4 -> 0
E24: ГБУ РС (Я) КЦРБ ИМ.ТЕРЕХОВОЙ М.Н. | F24: 2.849 | G24: 2.59 | H24: 1.557 | I24: 1.555 | K24: 0.667 | O24: 0.748 | P24: 1.141 | Q24: 2.059 | R24: 2.238 | S24: 3.7 | T24: 1.781 | U24: 1.738 | V24: 1.338 | W24: 0.675 | AA24: 0.319 | AC24: 3.776 | AD24: 3.174 | AE24: 3.12 | AF24: 2.383 | AG24: 2.255 | AH24: 0.86 | AI24: 0.678 | AN24: 1.125 | AO24: 1.863 | AP24: 2.646 | AQ24: 2.66 | AR24: 2.558 | AS24: 1.677 | AT24: 1.229 | AU24: 0.815 | AY24: 0.321 | AZ24: 0.775 | BA24: 1.695 | BB24: =MAX(F24:BA24) -> 3.776 | BC24: 5.075 | BD24: =(BB24/31/24)*1000 -> 5.0752688 | BE24: =BC24-BD24 -> -0.0002688172 | BF24: 4.24 | BG24: 6 | BH24: =(BC24*24*31/1000000) -> 0.0037758 | BI24: =(BD24*24*31/1000000) -> 0.003776 | BJ24: =BH24-BI24 -> -2e-07 | BK24: 0.0113274 | BL24: 0.011328 | BM24: -6e-07 | BN24: =BK24*4 -> 0.0453096 | BO24: =BL24*4 -> 0.045312 | BP24: =BM24*4 -> -2.4e-06
E25: с. Багадя, ул. Егорова 13 - ФАП | F25: 2.849 | G25: 2.59 | H25: 1.557 | I25: 1.555 | K25: 0.667 | O25: 0.748 | P25: 1.141 | Q25: 2.059 | R25: 2.238 | S25: 3.7 | T25: 1.781 | U25: 1.738 | V25: 1.338 | W25: 0.675 | AA25: 0.319 | AC25: 3.776 | AD25: 3.174 | AE25: 3.12 | AF25: 2.383 | AG25: 2.255 | AH25: 0.86 | AI25: 0.678 | AN25: 1.125 | AO25: 1.863 | AP25: 2.646 | AQ25: 2.66 | AR25: 2.558 | AS25: 1.677 | AT25: 1.229 | AU25: 0.815 | AY25: 0.321 | AZ25: 0.775 | BA25: 1.695 | BB25: =MAX(F25:BA25) -> 3.776 | BE25: =BC25-BD25 -> 0 | BF25: 4.24 | BH25: =(BC25*24*31/1000000) -> 0 | BI25: =(BD25*24*31/1000000) -> 0 | BJ25: =BH25-BI25 -> 0 | BK25: 0 | BL25: 0 | BM25: 0 | BN25: =BK25*4 -> 0 | BO25: =BL25*4 -> 0 | BP25: =BM25*4 -> 0
E26: ГУП ЖКХ РС(Я) | F26: 43.3 | G26: 35 | H26: 31.4 | I26: 22.249 | K26: 11.658 | O26: 13.144 | P26: 27.406 | Q26: 42.857 | R26: 44.605 | S26: 52.395 | T26: 48.084 | U26: 36.035 | V26: 20.088 | W26: 13.033 | AA26: -99.427 | AB26: 19.314 | AC26: 31.438 | AD26: 36.806 | AE26: 36.411 | AF26: 30.658 | AG26: 22.833 | AH26: 15.152 | AI26: 11.88 | AM26: 8.859 | AN26: 20.408 | AO26: 30.652 | AP26: 38.534 | AQ26: 38.248 | AR26: 32.216 | AS26: 28.196 | AT26: 17.978 | AU26: 10.097 | AY26: 8.426 | AZ26: 16.188 | BA26: 28.903 | BB26: =MAX(F26:BA26) -> 52.395 | BC26: 118.56 | BD26: =(BB26/31/24)*1000 -> 70.423387 | BE26: =BC26-BD26 -> 48.136613 | BF26: 118.56 | BG26: 6 | BH26: =(BC26*24*31/1000000) -> 0.08820864 | BI26: =(BD26*24*31/1000000) -> 0.052395 | BJ26: =BH26-BI26 -> 0.03581364 | BK26: 0.26462592 | BL26: 0.157185 | BM26: 0.10744092 | BN26: =BK26*4 -> 1.0585037 | BO26: =BL26*4 -> 0.62874 | BP26: =BM26*4 -> 0.42976368
E27: с. Арылах СДК | F27: 19.2 | G27: 15 | H27: 13.3 | I27: 8.841 | K27: 4.736 | O27: 6.032 | P27: 11.789 | Q27: 18.702 | R27: 20.566 | S27: 23.926 | T27: 21.744 | U27: 16.721 | V27: 9.483 | W27: 5.58 | AA27: -74.918 | AB27: 6.155 | AC27: 9.299 | AD27: 11.361 | AE27: 11.135 | AF27: 9.776 | AG27: 7.606 | AH27: 5.391 | AI27: 3.707 | AM27: 3.16 | AN27: 7.501 | AO27: 10.186 | AP27: 12.591 | AQ27: 12.396 | AR27: 10.786 | AS27: 9.541 | AT27: 6.561 | AU27: 3.954 | AY27: 3.181 | AZ27: 6.048 | BA27: 9.763 | BB27: =MAX(F27:BA27) -> 23.926 | BE27: =BC27-BD27 -> 0 | BF27: 41 | BH27: =(BC27*24*31/1000000) -> 0 | BI27: =(BD27*24*31/1000000) -> 0 | BJ27: =BH27-BI27 -> 0 | BK27: 0 | BL27: 0 | BM27: 0 | BN27: =BK27*4 -> 0 | BO27: =BL27*4 -> 0 | BP27: =BM27*4 -> 0
E28: с. Багаджа Центральная | F28: 24.1 | G28: 20 | H28: 18.1 | I28: 13.408 | K28: 6.922 | O28: 7.112 | P28: 15.617 | Q28: 24.155 | R28: 24.039 | S28: 28.469 | T28: 26.34 | U28: 19.314 | V28: 10.605 | W28: 7.453 | AA28: -24.509 | AB28: 13.159 | AC28: 22.139 | AD28: 25.445 | AE28: 25.276 | AF28: 20.882 | AG28: 15.227 | AH28: 9.761 | AI28: 8.173 | AM28: 5.699 | AN28: 12.907 | AO28: 20.466 | AP28: 25.943 | AQ28: 25.852 | AR28: 21.43 | AS28: 18.655 | AT28: 11.417 | AU28: 6.143 | AY28: 5.245 | AZ28: 10.14 | BA28: 19.14 | BB28: =MAX(F28:BA28) -> 28.469 | BD28: =(BB28/31/24)*1000 -> 38.264785 | BF28: 77.56 | BH28: =(BC28*24*31/1000000) -> 0 | BK28: 0 | BL28: 0.085407 | BN28: =BK28*4 -> 0 | BO28: =BL28*4 -> 0.341628 | BP28: =BM28*4 -> 0
E29: АДМИНИСТРАЦИЯ МО "ЛЮЧЧЕГИНСКИЙ 1-Й НАСЛЕГ" | AT29: 4.298 | AU29: 3.688 | AV29: 2.152 | AY29: 0.132 | AZ29: 0.687 | BA29: 1.204 | BB29: =MAX(F29:BA29) -> 4.298 | BC29: 5.777 | BD29: =(BB29/31/24)*1000 -> 5.7768817 | BE29: =BC29-BD29 -> 0.00011827957 | BF29: 5.6 | BG29: 6 | BH29: =(BC29*24*31/1000000) -> 0.004298088 | BI29: =(BD29*24*31/1000000) -> 0.004298 | BJ29: =BH29-BI29 -> 8.8e-08 | BK29: 0.012894264 | BL29: 0.012894 | BM29: 2.64e-07 | BN29: =BK29*4 -> 0.051577056 | BO29: =BL29*4 -> 0.051576 | BP29: =BM29*4 -> 1.056e-06
E30: РС(Я), Кобяйский улус, с. Багадя, ул. Егорова д. 5 | AT30: 4.298 | AU30: 3.688 | AV30: 2.152 | AY30: 0.132 | AZ30: 0.687 | BA30: 1.204 | BB30: =MAX(F30:BA30) -> 4.298 | BD30: =(BB30/31/24)*1000 -> 5.7768817 | BF30: 5.6 | BH30: =(BC30*24*31/1000000) -> 0 | BI30: =(BD30*24*31/1000000) -> 0.004298 | BK30: 0 | BL30: 0.012894 | BN30: =BK30*4 -> 0 | BO30: =BL30*4 -> 0.051576 | BP30: =BM30*4 -> 0
E31: ЖСХПККюерелях | F31: 2.123 | G31: 2.025 | H31: 1.467 | I31: 1.248 | K31: 0.132 | P31: 1.421 | Q31: 0.95 | R31: 2.113 | S31: 2.25 | T31: 1.19 | U31: 2.813 | V31: 1.581 | W31: 0.336 | AB31: 1.021 | AC31: 2.919 | AD31: 3.446 | AE31: 2.749 | AF31: 2.326 | AG31: 1.956 | AH31: 1.206 | AI31: 0.351 | BB31: =MAX(F31:BA31) -> 3.446 | BC31: 6.8 | BD31: =(BB31/31/24)*1000 -> 4.6317204 | BE31: =BC31-BD31 -> 2.1682796 | BF31: 6.8 | BG31: 6 | BH31: =(BC31*24*31/1000000) -> 0.0050592 | BI31: =(BD31*24*31/1000000) -> 0.003446 | BJ31: =BH31-BI31 -> 0.0016132 | BK31: 0.0151776 | BL31: 0.010338 | BM31: 0.0048396 | BN31: =BK31*4 -> 0.0607104 | BO31: =BL31*4 -> 0.041352 | BP31: =BM31*4 -> 0.0193584
E32: с. Арылах, ул. Кюерелях | F32: 2.123 | G32: 2.025 | H32: 1.467 | I32: 1.248 | K32: 0.132 | P32: 1.421 | Q32: 0.95 | R32: 2.113 | S32: 2.25 | T32: 1.19 | U32: 2.813 | V32: 1.581 | W32: 0.336 | AB32: 1.021 | AC32: 2.919 | AD32: 3.446 | AE32: 2.749 | AF32: 2.326 | AG32: 1.956 | AH32: 1.206 | AI32: 0.351 | BB32: =MAX(F32:BA32) -> 3.446 | BD32: =(BB32/31/24)*1000 -> 4.6317204 | BF32: 6.8 | BH32: =(BC32*24*31/1000000) -> 0 | BI32: =(BD32*24*31/1000000) -> 0.003446 | BK32: 0 | BL32: 0.010338 | BN32: =BK32*4 -> 0 | BO32: =BL32*4 -> 0.041352 | BP32: =BM32*4 -> 0
E33: Население - Мукучинский ЭУГХ | F33: 24.355 | G33: 53.825 | H33: 83.164 | I33: 46.676 | K33: 34.527 | L33: 21.686 | M33: -30.988 | N33: 11.746 | O33: 30.725 | P33: 26.524 | Q33: 44.336 | R33: 50.642 | S33: 68.158 | T33: 80.319 | U33: 43.362 | V33: 36.623 | W33: 26.742 | X33: 10.35 | Y33: 3.966 | Z33: 8.976 | AA33: 11.305 | AB33: 15.055 | AC33: 50.736 | AD33: 63.412 | AE33: 70.585 | AF33: 58.944 | AG33: 53.346 | AH33: 32.147 | AI33: 29.625 | AJ33: 11.379 | AK33: 4.605 | AL33: 6.296 | AM33: 13.52 | AN33: 25.783 | AO33: 53.582 | AP33: 71.885 | AQ33: 84.132 | AR33: 67.741 | AS33: 55.626 | AT33: 40.859 | AU33: 22.861 | AV33: 12.036 | AW33: 5.034 | AX33: 12.8 | AY33: 11.953 | AZ33: 30.998 | BA33: 41.591 | BB33: =BB34 -> 86 | BC33: 330 | BD33: =(BB33/31/24)*1000 -> 115.5914 | BE33: =BC33-BD33 -> 214.4086 | BF33: 330 | BG33: 8 | BH33: =(BC33*24*31/1000000) -> 0.24552 | BI33: =(BD33*24*31/1000000) -> 0.086 | BJ33: =BH33-BI33 -> 0.15952 | BK33: 0.73656 | BL33: 0.252396 | BM33: 0.484164 | BN33: =BK33*4 -> 2.94624 | BO33: =BL33*4 -> 1.009584 | BP33: =BM33*4 -> 1.936656
F34: 2.123 | G34: 2.025 | H34: 1.467 | I34: 1.248 | K34: 0.132 | P34: 1.421 | Q34: 0.95 | R34: 2.113 | S34: 2.25 | T34: 1.19 | U34: 2.813 | V34: 1.581 | W34: 0.336 | AB34: 1.021 | AC34: 2.919 | AD34: 3.446 | AE34: 2.749 | AF34: 2.326 | AG34: 1.956 | AH34: 1.206 | AI34: 0.351 | BB34: 86 | BD34: =(BB34/31/24)*1000 -> 115.5914 | BH34: =(BC34*24*31/1000000) -> 0 | BI34: =(BD34*24*31/1000000) -> 0.086 | BK34: 0 | BL34: 0.010338 | BN34: =BK34*4 -> 0 | BO34: =BL34*4 -> 0.041352 | BP34: =BM34*4 -> 0
E35: ДЕТСКИЙ САД №18 ЧУОРААНЧЫК МБДОУ | BB35: 0.8928 | BC35: 1.2 | BD35: 0.047043011 | BE35: =BC35-BD35 -> 1.152957 | BF35: 1.2 | BG35: 7 | BH35: =(BC35*24*31/1000000) -> 0.0008928 | BI35: =(BD35*24*31/1000000) -> 3.5e-05 | BJ35: =BH35-BI35 -> 0.0008578
E36: РС(Я), Кобяйский улус, Люкччегинский 1-й наслег, с.Багадя, ул.Егорова, д.2 | F36: 2.123 | G36: 2.025 | H36: 1.467 | I36: 1.248 | K36: 0.132 | P36: 1.421 | Q36: 0.95 | R36: 2.113 | S36: 2.25 | T36: 1.19 | U36: 2.813 | V36: 1.581 | W36: 0.336 | AB36: 1.021 | AC36: 2.919 | AD36: 3.446 | AE36: 2.749 | AF36: 2.326 | AG36: 1.956 | AH36: 1.206 | AI36: 0.351 | BB36: 0.8928 | BD36: =(BB36/31/24)*1000 -> 1.2 | BH36: =(BC36*24*31/1000000) -> 0 | BI36: =(BD36*24*31/1000000) -> 0.0008928 | BK36: 0 | BL36: 0.010338 | BN36: =BK36*4 -> 0 | BO36: =BL36*4 -> 0.041352 | BP36: =BM36*4 -> 0
A37: 3 | B37: Арыттаах | C37: Арыттаах | D37: Арыттаах | F37: 101.386 | G37: 87.124 | H37: 60.436 | I37: 82.481 | K37: 37.034 | L37: 26.36 | M37: 13.687 | N37: 24.045 | O37: 20.37 | P37: 54.026 | Q37: 66.828 | R37: 94.138 | S37: 119.08 | T37: 86.804 | U37: 93.8 | V37: 61.667 | W37: 44.677 | X37: 28.105 | Y37: 21.599 | Z37: 23.346 | AA37: 63.917 | AB37: 61.748 | AC37: 90.041 | AD37: 117.85 | AE37: 119.82 | AF37: 105.403 | AG37: 91.293 | AH37: 119.652 | AI37: 1.092 | AJ37: 21.367 | AK37: 16.716 | AL37: 17.122 | AM37: 32.541 | AN37: 58.841 | AO37: 95.284 | AP37: 115.609 | AQ37: 141.133 | AR37: 115.872 | AS37: 85.436 | AT37: 83.949 | AU37: 47.554 | AV37: 26.095 | AW37: 15.867 | AX37: 21.728 | AY37: 33.556 | AZ37: 46.56 | BA37: 85.852 | BB37: =SUM(BB38,BB41,BB43,BB45,BB47,BB49,BB51,BB52) -> 179.982 | BC37: =SUM(BC38,BC41,BC43,BC45,BC47,BC49,BC51,BC52) -> 541.049 | BD37: =SUM(BD38,BD41,BD43,BD45,BD47,BD49,BD51,BD52) -> 241.91129 | BE37: =SUM(BE38,BE41,BE43,BE45,BE47,BE49,BE51,BE52) -> 299.13771 | BF37: =SUM(BF38,BF41,BF43,BF45,BF47,BF49,BF51,BF52) -> 576.27 | BH37: =SUM(BH38,BH41,BH43,BH45,BH47,BH49,BH51,BH52) -> 0.40254046 | BI37: =SUM(BI38,BI41,BI43,BI45,BI47,BI49,BI51,BI52) -> 0.15941816 | BJ37: =SUM(BJ38,BJ41,BJ43,BJ45,BJ47,BJ49,BJ51,BJ52) -> 0.2431223 | BK37: 1.1964614 | BL37: 0.552204 | BM37: 0.64425737 | BN37: =BK37*4 -> 4.7858455 | BO37: =BL37*4 -> 2.208816 | BP37: =BM37*4 -> 2.5770295
E38: АДМИНИСТРАЦИЯ МО "АРЫКТАХСКИЙ НАСЛЕГ" | F38: 11.593 | G38: 1.218 | H38: 5.596 | I38: 5.698 | K38: 3.226 | O38: 0.224 | P38: 7.404 | Q38: 6.941 | R38: 1.153 | S38: 11.458 | T38: 8.353 | U38: 6.85 | V38: 0.533 | W38: 0.276 | Z38: 0.283 | AB38: 2.135 | AC38: 5.508 | AD38: 6.802 | AE38: 6.996 | AF38: 7.077 | AG38: 3.523 | AH38: 2.479 | AI38: 2.107 | AJ38: 0.38 | AM38: 0.205 | AN38: 2.52 | AO38: 5.91 | AP38: 7.539 | AQ38: 7.164 | AR38: 6.246 | AS38: 6.759 | AT38: 2.943 | AU38: 1.562 | AY38: 0.712 | AZ38: 2.869 | BA38: 6.327 | BB38: =BB39+BB40 -> 11.788 | BC38: 15.844 | BD38: =(BB38/31/24)*1000 -> 15.844086 | BE38: =BC38-BD38 -> -8.6021505e-05 | BF38: 10.32 | BG38: 6 | BH38: =(BC38*24*31/1000000) -> 0.011787936 | BI38: =(BD38*24*31/1000000) -> 0.011788 | BJ38: =BH38-BI38 -> -6.4e-08 | BK38: 0.035363808 | BL38: 0.035364 | BM38: -1.92e-07 | BN38: =BK38*4 -> 0.14145523 | BO38: =BL38*4 -> 0.141456 | BP38: =BM38*4 -> -7.68e-07
E39: с. Арыктах, ул.Ниджили 24, спортзал | F39: 10 | H39: 5 | I39: 5 | K39: 3 | P39: 7 | Q39: 6 | S39: 10 | T39: 7 | U39: 6 | AB39: 1.43 | AC39: 4.604 | AD39: 5.523 | AE39: 5.954 | AF39: 5.917 | AG39: 2.978 | AH39: 2.085 | AI39: 1.782 | AJ39: 0.241 | AN39: 1.915 | AO39: 4.619 | AP39: 5.751 | AQ39: 5.394 | AR39: 4.718 | AS39: 5.147 | AT39: 2.192 | AU39: 1.088 | AY39: 0.265 | AZ39: 2.149 | BA39: 4.804 | BB39: =MAX(F39:BA39) -> 10 | BE39: =BC39-BD39 -> 0 | BF39: 8.2 | BH39: =(BC39*24*31/1000000) -> 0 | BI39: =(BD39*24*31/1000000) -> 0 | BJ39: =BH39-BI39 -> 0 | BK39: 0 | BL39: 0 | BM39: 0 | BN39: =BK39*4 -> 0 | BO39: =BL39*4 -> 0 | BP39: =BM39*4 -> 0
E40: с. Арыктах, ул.Ниджили д. 27 административное здание | F40: 1.593 | G40: 1.218 | H40: 0.596 | I40: 0.698 | K40: 0.226 | O40: 0.224 | P40: 0.404 | Q40: 0.941 | R40: 1.153 | S40: 1.458 | T40: 1.353 | U40: 0.85 | V40: 0.533 | W40: 0.276 | Z40: 0.283 | AB40: 0.705 | AC40: 0.904 | AD40: 1.279 | AE40: 1.042 | AF40: 1.16 | AG40: 0.545 | AH40: 0.394 | AI40: 0.325 | AJ40: 0.139 | AM40: 0.205 | AN40: 0.605 | AO40: 1.291 | AP40: 1.788 | AQ40: 1.77 | AR40: 1.528 | AS40: 1.612 | AT40: 0.751 | AU40: 0.474 | AY40: 0.447 | AZ40: 0.72 | BA40: 1.523 | BB40: =MAX(F40:BA40) -> 1.788 | BE40: =BC40-BD40 -> 0 | BF40: 2.12 | BH40: =(BC40*24*31/1000000) -> 0 | BI40: =(BD40*24*31/1000000) -> 0 | BJ40: =BH40-BI40 -> 0 | BK40: 0 | BL40: 0 | BM40: 0 | BN40: =BK40*4 -> 0 | BO40: =BL40*4 -> 0 | BP40: =BM40*4 -> 0
E41: ГУП ЖКХ РС(Я) | F41: 9.5 | G41: 8.6 | H41: 7.6 | I41: 5.826 | K41: 3.825 | O41: 4.236 | P41: 8.19 | Q41: 11.147 | R41: 11.137 | S41: 12.784 | T41: 12.174 | U41: 9.753 | V41: 5.645 | W41: 3.864 | AA41: 42.629 | AB41: 9.012 | AC41: 14.936 | AD41: 19.532 | AE41: 19.156 | AF41: 16.441 | AG41: 10.577 | AH41: 57.376 | AI41: -45.86 | AM41: 4.223 | AN41: 8.009 | AO41: 15.204 | AP41: 20.548 | AQ41: 20.07 | AR41: 15.379 | AS41: 13.709 | AT41: 8.139 | AU41: 4.23 | AY41: 4.11 | AZ41: 7.282 | BA41: 12.265 | BB41: =MAX(F41:BA41) -> 57.376 | BC41: 186 | BD41: =(BB41/31/24)*1000 -> 77.11828 | BE41: =BC41-BD41 -> 108.88172 | BF41: 186 | BG41: 5 | BH41: =(BC41*24*31/1000000) -> 0.138384 | BI41: =(BD41*24*31/1000000) -> 0.057376 | BJ41: =BH41-BI41 -> 0.081008 | BK41: 0.415152 | BL41: 0.172128 | BM41: 0.243024 | BN41: =BK41*4 -> 1.660608 | BO41: =BL41*4 -> 0.688512 | BP41: =BM41*4 -> 0.972096
E42: с. Арыктах Школа | F42: 9.5 | G42: 8.6 | H42: 7.6 | I42: 5.826 | K42: 3.825 | O42: 4.236 | P42: 8.19 | Q42: 11.147 | R42: 11.137 | S42: 12.784 | T42: 12.174 | U42: 9.753 | V42: 5.645 | W42: 3.864 | AA42: 42.629 | AB42: 9.012 | AC42: 14.936 | AD42: 19.532 | AE42: 19.156 | AF42: 16.441 | AG42: 10.577 | AH42: 57.376 | AI42: -45.86 | AM42: 4.223 | AN42: 8.009 | AO42: 15.204 | AP42: 20.548 | AQ42: 20.07 | AR42: 15.379 | AS42: 13.709 | AT42: 8.139 | AU42: 4.23 | AY42: 4.11 | AZ42: 7.282 | BA42: 12.265 | BB42: =MAX(F42:BA42) -> 57.376 | BE42: =BC42-BD42 -> 0 | BF42: 186 | BH42: =(BC42*24*31/1000000) -> 0 | BI42: =(BD42*24*31/1000000) -> 0 | BJ42: =BH42-BI42 -> 0 | BK42: 0 | BL42: 0 | BM42: 0 | BN42: =BK42*4 -> 0 | BO42: =BL42*4 -> 0 | BP42: =BM42*4 -> 0
E43: ИП Ноговицына Александра Николаевна | F43: 0.553 | G43: 0.454 | H43: 0.279 | I43: 0.211 | P43: 0.105 | Q43: 0.403 | R43: 0.332 | S43: 0.4 | T43: 0.378 | U43: 0.254 | V43: 0.161 | W43: 0.039 | Y43: 0.006 | AB43: 0.153 | AC43: 0.306 | AD43: 0.445 | AE43: 0.462 | AF43: 0.3 | AG43: 0.283 | AH43: 0.133 | AI43: 0.083 | AM43: 0.029 | AO43: 0.424 | AP43: 0.441 | AQ43: 0.434 | AR43: 0.353 | AS43: 0.341 | AT43: 0.152 | AU43: 0.056 | AZ43: 0.11 | BA43: 0.239 | BB43: =MAX(F43:BA43) -> 0.553 | BC43: 0.9 | BD43: =(BB43/31/24)*1000 -> 0.74327957 | BE43: =BC43-BD43 -> 0.15672043 | BF43: 0.9 | BG43: 6 | BH43: =(BC43*24*31/1000000) -> 0.0006696 | BI43: =(BD43*24*31/1000000) -> 0.000553 | BJ43: =BH43-BI43 -> 0.0001166 | BK43: 0.0020088 | BL43: 0.001659 | BM43: 0.0003498 | BN43: =BK43*4 -> 0.0080352 | BO43: =BL43*4 -> 0.006636 | BP43: =BM43*4 -> 0.0013992
E44: с. Арыктах, ул. Ниджили 22/1 | F44: 0.553 | G44: 0.454 | H44: 0.279 | I44: 0.211 | P44: 0.105 | Q44: 0.403 | R44: 0.332 | S44: 0.4 | T44: 0.378 | U44: 0.254 | V44: 0.161 | W44: 0.039 | Y44: 0.006 | AB44: 0.153 | AC44: 0.306 | AD44: 0.445 | AE44: 0.462 | AF44: 0.3 | AG44: 0.283 | AH44: 0.133 | AI44: 0.083 | AM44: 0.029 | AO44: 0.424 | AP44: 0.441 | AQ44: 0.434 | AR44: 0.353 | AS44: 0.341 | AT44: 0.152 | AU44: 0.056 | AZ44: 0.11 | BA44: 0.239 | BB44: =MAX(F44:BA44) -> 0.553 | BE44: =BC44-BD44 -> 0 | BF44: 0.9 | BH44: =(BC44*24*31/1000000) -> 0 | BI44: =(BD44*24*31/1000000) -> 0 | BJ44: =BH44-BI44 -> 0 | BK44: 0 | BL44: 0 | BM44: 0 | BN44: =BK44*4 -> 0 | BO44: =BL44*4 -> 0 | BP44: =BM44*4 -> 0
...

Sheet форма 7 СВМ (Август 2026)
B7: ИНФОРМАЦИЯ
B8: О НАЛИЧИИ (ОТСУТСТВИИ) ТЕХНИЧЕСКОЙ ВОЗМОЖНОСТИ ДОСТУПА К РЕГУЛИРУЕМЫМ УСЛУГАМ
B9: ПО ТРАНСПОРТИРОВКЕ ГАЗА ПО ГАЗОРАСПРЕДЕЛИТЕЛЬНЫМ СЕТЯМ (С ДЕТАЛИЗАЦИЕЙ ПО ГРУППАМ ПОТРЕБЛЕНИЯ)
A10: ПО СРЕДНЕВИЛЮЙСКОМУ МЕСТОРОЖДЕНИЮ
A11: ='форма 6 СВМ (Август 2026)'!A8:BJ8 -> на Август 2026 года (факт)
B14: Группа потребления | C14: Объемы газа в соответствии с поступившими заявками тыс. куб. м | D14: Объемы газа в соответствии с удовлетворен- ными заявками, тыс. куб. м
B15: 1 | C15: 2 | D15: 3
B16: Дифференцированный тариф всего, в том числе:
B17: 1 группа | C17: =170.402*1000 -> 170402 | D17: =169.571*1000 -> 169571
B18: 2 группа | C18: 48178 | D18: 22134
B19: 3 группа | C19: 49595 | D19: 30180
B20: 4 группа | C20: 62427 | D20: 35893
B21: 5 группа | C21: 65700 | D21: 32880
B22: 6 группа | C22: 46138 | D22: 18365
B23: 7 группа | C23: 3044 | D23: 1294
B24: 8 группа (население) | C24: 178180 | D24: 60063
B25: Транзитный тариф
B26: Итого: | C26: =SUM(C17:C25) -> 623664 | D26: =SUM(D17:D25) -> 370380

Sheet форма 6 СТГКМ (Август 2026)
A1: ИНФОРМАЦИЯ
A2: О НАЛИЧИИ (ОТСУТСТВИИ) ТЕХНИЧЕСКОЙ ВОЗМОЖНОСТИ ДОСТУПА К РЕГУЛИРУЕМЫМ УСЛУГАМ
A3: ПО ТРАНСПОРТИРОВКЕ ГАЗА ПО ГАЗОРАСПРЕДЕЛИТЕЛЬНЫМ СЕТЯМ
A4: ПО СРЕДНЕТЮНГСКОМУ МЕСТОРОЖДЕНИЮ
A5: ='форма 6 СВМ (Август 2026)'!A8:BJ8 -> на Август 2026 года (факт)
A7: Точка входа в газораспреде- лительную сеть | B7: Точка выхода из газораспреде- лительной сети | C7: Наименование потребителя | D7: Номер группы газопотребления | E7: Объемы газа в соответствии с поступившими заявками млн. куб. м | F7: Объемы газа в соответствии с удовлетворен- ными заявками, млн. куб. м | G7: Свободная мощность газораспреде- лительной сети, млн. куб. м
A8: Кюбяинде | B8: Кюбяинде | E8: 0.7773552 | F8: 0.216653 | G8: 0.5607022
C9: АДМИНИСТРАЦИЯ МО ЮГЮЛЯТСКИЙ НАСЛЕГ | D9: 6 | E9: 0.003675 | F9: 0.003675 | G9: 0
C10: ГУП ЖКХ РС(Я) | D10: 5 | E10: 0.177072 | F10: 0.0593 | G10: 0.117772
C11: Кулят-Хлеб ООО | D11: 6 | E11: 0.0061752 | F11: 0.003715 | G11: 0.0024602
C12: КУЛЯТСКОЕ ПО | D12: 6 | E12: 0.0061752 | F12: 0.003544 | G12: 0.0026312
C13: Население - Вилюйский ЭУГХ | D13: 8 | E13: 0.57288 | F13: 0.139226 | G13: 0.433654
C14: СЫА БУЛУУ СХППК | D14: 5 | E14: 0.003045 | F14: 0.003045 | G14: 0
C15: ЮГЮЛЯТСКИЙ КСК САЙДАМ МБУ | D15: 6 | E15: 0.0083328 | F15: 0.004148 | G15: 0.0041848
C16: АУРИС ООО | D16: 6 | E16: 0.021 | F16: 0.009 | G16: 0.012
A17: Тылгыны (Тиэрбэс) | B17: Тылгыны (Тиэрбэс) | E17: 0.75448036 | F17: 0.215812 | G17: 0.53866836
C18: АДМИНИСТРАЦИЯ МО "ТЫЛГЫНИНСКИЙ НАСЛЕГ" | D18: 6 | E18: 0.0061752 | F18: 0.003504 | G18: 0.0026712
C19: ГУП ЖКХ РС(Я) | D19: 5 | E19: 0.19635648 | F19: 0.072 | G19: 0.12435648
C20: Кулят-Хлеб ООО | D20: 6 | E20: 0.001969 | F20: 0.001969 | G20: 0
C21: КУЛЯТСКОЕ ПО | D21: 5 | E21: 0.0081096 | F21: 0.006 | G21: 0.0021096
C22: Население - Вилюйский ЭУГХ | D22: 8 | E22: 0.5394 | F22: 0.130665 | G22: 0.408735
C23: СЫА БУЛУУ СХППК | D23: 5 | E23: 0.00247008 | F23: 0.001674 | G23: 0.00079608
A24: Усун (Кулятцы) | B24: Усун (Кулятцы) | E24: 0.828 | F24: 0.23 | G24: 0.597
C25: Жилтехсервис ООО | D25: 6 | E25: 0.01714 | F25: 0.01714 | G25: 0
C26: ГУП ЖКХ РС(Я) | D26: 5 | E26: 0.102672 | F26: 0.016278 | G26: 0.086394
C27: Кулят-Хлеб ООО | D27: 5 | E27: 0.0061752 | F27: 0.003468 | G27: 0.0027072
C28: КУЛЯТСКОЕ ПО | D28: 5 | E28: 0.0061752 | F28: 0.00268 | G28: 0.0034952
C29: Население - Вилюйский ЭУГХ | D29: 8 | E29: 0.6696 | F29: 0.166035 | G29: 0.503565
C30: ПК 1КУЛЯТЦЫ | D30: 6 | E30: 0.017067 | F30: 0.017067 | G30: 0
C31: ФГУП Почта России (АБО.ОТД), обособленное подразделение | D31: 6 | E31: 0.002194 | F31: 0.002194 | G31: 0
C32: УПРАВЛЕНИЕ ВЕТЕРИНАРИИ С ВЕТЕРИНАРНО-ИСПЫТАТЕЛЬНОЙ ЛАБОРАТОРИЕЙ ВИЛЮЙСКОГО УЛУСА (РАЙОНА) ГБУ | D32: 7 | E32: 0.0028928 | F32: 0.0028928 | G32: 0
C33: КЮЛЕТСКИЙ 1-Й НАСЛЕГ АДМИНИСТРАЦИЯ СП | D33: 6 | E33: =5*24*31/1000000 -> 0.00372 | F33: 0.002455 | G33: =E33-F33 -> 0.001265

Sheet форма 7 СТГКМ (Август 2026)
B1: ИНФОРМАЦИЯ
A2: О НАЛИЧИИ (ОТСУТСТВИИ) ТЕХНИЧЕСКОЙ ВОЗМОЖНОСТИ ДОСТУПА К РЕГУЛИРУЕМЫМ УСЛУГАМ
A3: ПО ТРАНСПОРТИРОВКЕ ГАЗА ПО ГАЗОРАСПРЕДЕЛИТЕЛЬНЫМ СЕТЯМ (С ДЕТАЛИЗАЦИЕЙ ПО ГРУППАМ ПОТРЕБЛЕНИЯ)
A4: ПО СРЕДНЕТЮНГСКОМУ МЕСТОРОЖДЕНИЮ
A5: ='форма 6 СВМ (Август 2026)'!A8:BJ8 -> на Август 2026 года (факт)
B7: Группа потребления | C7: Объемы газа в соответствии с поступившими заявками тыс. куб. м | D7: Объемы газа в соответствии с удовлетворен- ными заявками, тыс. куб. м
B8: 1 | C8: 2 | D8: 3
B9: Дифференцированный тариф всего, в том числе:
B10: 1 группа
B11: 2 группа
B12: 3 группа
B13: 4 группа
B14: 5 группа | C14: 502 | D14: 164
B15: 6 группа | C15: 94 | D15: 68
B16: 7 группа | C16: 3 | D16: 3
B17: 8 группа (население) | C17: 1782 | D17: 436
B18: Транзитный тариф
B19: Итого: | C19: =C14+C15+C17+C16 -> 2381 | D19: =D14+D15+D17+D16 -> 671

Sheet форма 6 ОГКМ (Август 2026)
A1: ИНФОРМАЦИЯ
A2: О НАЛИЧИИ (ОТСУТСТВИИ) ТЕХНИЧЕСКОЙ ВОЗМОЖНОСТИ ДОСТУПА К РЕГУЛИРУЕМЫМ УСЛУГАМ
A3: ПО ТРАНСПОРТИРОВКЕ ГАЗА ПО ГАЗОРАСПРЕДЕЛИТЕЛЬНЫМ СЕТЯМ
A4: АО "САХАТРАНСНЕФТЕГАЗ"
A5: ПО ОТРАДНИНСКОМУ ГАЗОКОНДЕНСАТНОМУ МЕСТОРОЖДЕНИЮ
A6: ='форма 7 СТГКМ (Август 2026)'!A5:E5 -> на Август 2026 года (факт)
A8: Точка входа в газораспреде- лительную сеть | B8: Точка выхода из газораспреде- лительной сети | C8: Наименование потребителя | D8: Номер группы газопотребления | E8: Объемы газа в соответствии с поступившими заявками млн. куб. м | F8: Объемы газа в соответствии с удовлетворен- ными заявками, млн. куб. м | G8: Свободная мощность газораспреде- лительной сети, млн. куб. м
A9: Ленск | B9: Ленск | E9: =E10 -> 0.115 | F9: =F10 -> 0.115 | G9: =E9-F9 -> 0
C10: ООО "ГДК Ленск-Газ" | D10: 5 | E10: 0.115 | F10: 0.115 | G10: =E10-F10 -> 0

Sheet форма 7 ОГКМ (Август 2026)
A1: ИНФОРМАЦИЯ
A2: О НАЛИЧИИ (ОТСУТСТВИИ) ТЕХНИЧЕСКОЙ ВОЗМОЖНОСТИ ДОСТУПА К РЕГУЛИРУЕМЫМ УСЛУГАМ
A3: ПО ТРАНСПОРТИРОВКЕ ГАЗА ПО ГАЗОРАСПРЕДЕЛИТЕЛЬНЫМ СЕТЯМ (С ДЕТАЛИЗАЦИЕЙ ПО ГРУППАМ ПОТРЕБЛЕНИЯ)
A4: АО "САХАТРАНСНЕФТЕГАЗ"
A5: ПО ОТРАДНИНСКОМУ ГАЗОКОНДЕНСАТНОМУ МЕСТОРОЖДЕНИЮ
A6: ='форма 6 ОГКМ (Август 2026)'!A6:G6 -> на Август 2026 года (факт)
A8: Группа потребления | B8: Объемы газа в соответствии с поступившими заявками тыс. куб. м | C8: Объемы газа в соответствии с удовлетворен- ными заявками, тыс. куб. м
A9: 1 | B9: 2 | C9: 3
A10: Дифференцированный тариф всего, в том числе:
A11: 1 группа
A12: 2 группа
A13: 3 группа
A14: 4 группа
A15: 5 группа | B15: 115 | C15: 115
A16: 6 группа
A17: 7 группа
A18: 8 группа (население)
A19: Транзитный тариф
A20: Итого: | B20: =B15 -> 115 | C20: =C15 -> 115
